BEGIN:VCALENDAR
VERSION:2.0
PRODID:-//Liv i Sverige - ECPv6.15.15//NONSGML v1.0//EN
CALSCALE:GREGORIAN
METHOD:PUBLISH
X-WR-CALNAME:Liv i Sverige
X-ORIGINAL-URL:https://livisverige.org
X-WR-CALDESC:Händelser för Liv i Sverige
REFRESH-INTERVAL;VALUE=DURATION:PT1H
X-Robots-Tag:noindex
X-PUBLISHED-TTL:PT1H
BEGIN:VTIMEZONE
TZID:Europe/Stockholm
BEGIN:DAYLIGHT
TZOFFSETFROM:+0100
TZOFFSETTO:+0200
TZNAME:CEST
DTSTART:20240331T010000
END:DAYLIGHT
BEGIN:STANDARD
TZOFFSETFROM:+0200
TZOFFSETTO:+0100
TZNAME:CET
DTSTART:20241027T010000
END:STANDARD
BEGIN:DAYLIGHT
TZOFFSETFROM:+0100
TZOFFSETTO:+0200
TZNAME:CEST
DTSTART:20250330T010000
END:DAYLIGHT
BEGIN:STANDARD
TZOFFSETFROM:+0200
TZOFFSETTO:+0100
TZNAME:CET
DTSTART:20251026T010000
END:STANDARD
BEGIN:DAYLIGHT
TZOFFSETFROM:+0100
TZOFFSETTO:+0200
TZNAME:CEST
DTSTART:20260329T010000
END:DAYLIGHT
BEGIN:STANDARD
TZOFFSETFROM:+0200
TZOFFSETTO:+0100
TZNAME:CET
DTSTART:20261025T010000
END:STANDARD
BEGIN:DAYLIGHT
TZOFFSETFROM:+0100
TZOFFSETTO:+0200
TZNAME:CEST
DTSTART:20270328T010000
END:DAYLIGHT
BEGIN:STANDARD
TZOFFSETFROM:+0200
TZOFFSETTO:+0100
TZNAME:CET
DTSTART:20271031T010000
END:STANDARD
END:VTIMEZONE
BEGIN:VEVENT
DTSTART;TZID=Europe/Stockholm:20250410T170000
DTEND;TZID=Europe/Stockholm:20250410T190000
DTSTAMP:20260425T175806
CREATED:20250314T160832Z
LAST-MODIFIED:20250314T160832Z
UID:4934-1744304400-1744311600@livisverige.org
SUMMARY:Berättarkafé i Göteborg
DESCRIPTION:Berättarkaféet äger rum på Kyrkbyns bibliotek. Ordfördelare är Rolf Sossna
URL:https://livisverige.org/evenemang/berattarkafe-i-goteborg-8/
LOCATION:Kyrkbyns bibliotek
END:VEVENT
BEGIN:VEVENT
DTSTART;TZID=Europe/Stockholm:20250426T180000
DTEND;TZID=Europe/Stockholm:20250426T210000
DTSTAMP:20260425T175806
CREATED:20250214T112309Z
LAST-MODIFIED:20250214T112309Z
UID:4879-1745690400-1745701200@livisverige.org
SUMMARY:Berättarslam på Stadsmuseet
DESCRIPTION:
URL:https://livisverige.org/evenemang/berattarslam-pa-stadsmuseet/
LOCATION:Stadsmuseet
END:VEVENT
BEGIN:VEVENT
DTSTART;TZID=Europe/Stockholm:20250429T183000
DTEND;TZID=Europe/Stockholm:20250429T210000
DTSTAMP:20260425T175806
CREATED:20250210T213202Z
LAST-MODIFIED:20250210T214310Z
UID:4863-1745951400-1745960400@livisverige.org
SUMMARY:Berättarkafé på Timmermansgården
DESCRIPTION:
URL:https://livisverige.org/evenemang/berattarkafe-pa-timmermansgarden-19/
LOCATION:Timmermansgården\, Timmermansgatan 46-48\, Stockholm\, Sverige
END:VEVENT
BEGIN:VEVENT
DTSTART;TZID=Europe/Stockholm:20250507T173000
DTEND;TZID=Europe/Stockholm:20250507T193000
DTSTAMP:20260425T175806
CREATED:20250504T155049Z
LAST-MODIFIED:20250504T155049Z
UID:5071-1746639000-1746646200@livisverige.org
SUMMARY:Berättarkväll på Stadsmuseet
DESCRIPTION:Vårens sista berättarkväll  på Stadsmuseet i Stockholm\, onsdag 7 maj\n\nTid:  kl 17.30 -19.30\n\nLokal. Källarstugan\nInträde 50 kr\, medlemmar i Berättarnätet Öst gratis\nBoka biljett\, (även gratisbiljett) i förväg via länken.\nStadsmuseet | Medeltidsmuseet (entryevent.se)\n\nProgramledare: Anders Holmberg\nOBS! De BNÖ-medlemmar som vill berätta behöver inte boka biljett. Det är bara att komma! Kom i god tid i så fall!\nArrangeras av Berättarnätet Öst www.berattarnat-ost.se\n i samarbete med Studiefrämjandet\n\n Frågor? Ring 076-212 67 89
URL:https://livisverige.org/evenemang/berattarkvall-pa-stadsmuseet-2/
LOCATION:Stadsmuseet
END:VEVENT
BEGIN:VEVENT
DTSTART;TZID=Europe/Stockholm:20250509T140000
DTEND;TZID=Europe/Stockholm:20250509T170000
DTSTAMP:20260425T175806
CREATED:20250416T211724Z
LAST-MODIFIED:20250416T212818Z
UID:5052-1746799200-1746810000@livisverige.org
SUMMARY:Berättarkafé i Orminge
DESCRIPTION:Författaren  Pelle Olsson  informerar om föreningen Liv i Sverige.  Han leder sedan ett berättarkafé där alla som vill får berätta något ur sina liv. Du kan också bara komma och lyssna.\nPlats: Orminge bibliotek\,Ormingeplan 3\, 132 54 Saltsjö-Boo.\nTid: 9 maj kl 14.00
URL:https://livisverige.org/evenemang/berattarkafe-i-orminge/
LOCATION:Oerminge bibliotek
END:VEVENT
BEGIN:VEVENT
DTSTART;TZID=Europe/Stockholm:20250611T173000
DTEND;TZID=Europe/Stockholm:20250611T193000
DTSTAMP:20260425T175806
CREATED:20250606T153335Z
LAST-MODIFIED:20250606T153335Z
UID:5086-1749663000-1749670200@livisverige.org
SUMMARY:Berättarkväll på gården på Stockholms  Stadsmuseum
DESCRIPTION:Gratis inträde \nVälkommen att lyssna på sanna och osanna historier om Stockholm och allt möjligt annat! \nBerättarnätet Öst i samarbete med Stockholms stad och Studiefrämjandet. \nwww.berattarnat-ost.se tel 076-212 67 89
URL:https://livisverige.org/evenemang/berattarkvall-pa-garden-pa-stockholms-stadsmuseum/
LOCATION:Stadsmuseet
END:VEVENT
BEGIN:VEVENT
DTSTART;TZID=Europe/Stockholm:20250623T193000
DTEND;TZID=Europe/Stockholm:20250623T210000
DTSTAMP:20260425T175806
CREATED:20250607T154622Z
LAST-MODIFIED:20250607T155629Z
UID:5094-1750707000-1750712400@livisverige.org
SUMMARY:Berättarnas torg på Svartmangatan 6 i Gamla stan
DESCRIPTION:Berättarnas torg i en hel vecka den 23-29 juni. \nGratis för medlemmar i Berättarnätet Öst. För övriga kostar det 100 kr per kväll
URL:https://livisverige.org/evenemang/berattarnas-torg-pa-svartmangatan-6-i-gamla-stan/
LOCATION:Mäster Olofsgårdens innergård\, Svartmangatan 6
END:VEVENT
BEGIN:VEVENT
DTSTART;TZID=Europe/Stockholm:20250624T193000
DTEND;TZID=Europe/Stockholm:20250624T210000
DTSTAMP:20260425T175806
CREATED:20250607T155112Z
LAST-MODIFIED:20250607T155505Z
UID:5097-1750793400-1750798800@livisverige.org
SUMMARY:Berättarnas torg på Svartmangatan 6 i Gamla stan
DESCRIPTION:Berättarnas torg i en hel vecka den 23-29 juni. \nGratis för medlemmar i Berättarnätet Öst. För övriga kostar det 100 kr per kväll
URL:https://livisverige.org/evenemang/berattarnas-torg-pa-svartmangatan-6-i-gamla-stan-2/
LOCATION:Mäster Olofsgårdens innergård\, Svartmangatan 6
END:VEVENT
BEGIN:VEVENT
DTSTART;TZID=Europe/Stockholm:20250625T193000
DTEND;TZID=Europe/Stockholm:20250625T210000
DTSTAMP:20260425T175806
CREATED:20250607T155407Z
LAST-MODIFIED:20250607T155407Z
UID:5099-1750879800-1750885200@livisverige.org
SUMMARY:Berättarnas torg på Svartmangatan 6 i Gamla stan
DESCRIPTION:Berättarnas torg i en hel vecka den 23-29 juni. \nGratis för medlemmar i Berättarnätet Öst. För övriga kostar det 100 kr per kväll
URL:https://livisverige.org/evenemang/berattarnas-torg-pa-svartmangatan-6-i-gamla-stan-3/
LOCATION:Mäster Olofsgårdens innergård\, Svartmangatan 6
END:VEVENT
BEGIN:VEVENT
DTSTART;TZID=Europe/Stockholm:20250626T193000
DTEND;TZID=Europe/Stockholm:20250626T210000
DTSTAMP:20260425T175806
CREATED:20250607T155938Z
LAST-MODIFIED:20250607T155938Z
UID:5101-1750966200-1750971600@livisverige.org
SUMMARY:Berättarnas torg på Svartmangatan 6 i Gamla stan
DESCRIPTION:Berättarnas torg i en hel vecka den 23-29 juni. \nGratis för medlemmar i Berättarnätet Öst. För övriga kostar det 100 kr per kväll
URL:https://livisverige.org/evenemang/berattarnas-torg-pa-svartmangatan-6-i-gamla-stan-4/
LOCATION:Mäster Olofsgårdens innergård\, Svartmangatan 6
END:VEVENT
BEGIN:VEVENT
DTSTART;TZID=Europe/Stockholm:20250627T193000
DTEND;TZID=Europe/Stockholm:20250627T210000
DTSTAMP:20260425T175806
CREATED:20250607T160151Z
LAST-MODIFIED:20250607T160151Z
UID:5103-1751052600-1751058000@livisverige.org
SUMMARY:Berättarnas torg på Svartmangatan 6 i Gamla stan
DESCRIPTION:Berättarnas torg i en hel vecka den 23-29 juni. \nGratis för medlemmar i Berättarnätet Öst. För övriga kostar det 100 kr per kväll
URL:https://livisverige.org/evenemang/berattarnas-torg-pa-svartmangatan-6-i-gamla-stan-5/
LOCATION:Mäster Olofsgårdens innergård\, Svartmangatan 6
END:VEVENT
BEGIN:VEVENT
DTSTART;TZID=Europe/Stockholm:20250628T193000
DTEND;TZID=Europe/Stockholm:20250628T210000
DTSTAMP:20260425T175806
CREATED:20250607T160341Z
LAST-MODIFIED:20250607T160341Z
UID:5105-1751139000-1751144400@livisverige.org
SUMMARY:Berättarnas torg på Svartmangatan 6 i Gamla stan
DESCRIPTION:Berättarnas torg i en hel vecka den 23-29 juni. \nGratis för medlemmar i Berättarnätet Öst. För övriga kostar det 100 kr per kväll
URL:https://livisverige.org/evenemang/berattarnas-torg-pa-svartmangatan-6-i-gamla-stan-6/
LOCATION:Mäster Olofsgårdens innergård\, Svartmangatan 6
END:VEVENT
BEGIN:VEVENT
DTSTART;TZID=Europe/Stockholm:20250629T193000
DTEND;TZID=Europe/Stockholm:20250629T210000
DTSTAMP:20260425T175806
CREATED:20250607T160519Z
LAST-MODIFIED:20250607T160519Z
UID:5107-1751225400-1751230800@livisverige.org
SUMMARY:Berättarnas torg på Svartmangatan 6 i Gamla stan
DESCRIPTION:Berättarnas torg i en hel vecka den 23-29 juni. \nGratis för medlemmar i Berättarnätet Öst. För övriga kostar det 100 kr per kväll
URL:https://livisverige.org/evenemang/berattarnas-torg-pa-svartmangatan-6-i-gamla-stan-7/
LOCATION:Mäster Olofsgårdens innergård\, Svartmangatan 6
END:VEVENT
BEGIN:VEVENT
DTSTART;TZID=Europe/Stockholm:20250824T140000
DTEND;TZID=Europe/Stockholm:20250824T160000
DTSTAMP:20260425T175806
CREATED:20250612T170900Z
LAST-MODIFIED:20250612T170900Z
UID:5121-1756044000-1756051200@livisverige.org
SUMMARY:Samtal om de finska krigsbarnen på flygvapenmuseet i Linköping
DESCRIPTION:Liv i Sveriges ordförande Ingrid Sjökvist samtalar med Harri Jalonen\, själv ett finskt krigsbarn.
URL:https://livisverige.org/evenemang/samtal-om-de-finska-krigsbarnen-pa-flygvapenmuseet-i-linkoping/
LOCATION:Flygvapenmuseet i Linköping
END:VEVENT
BEGIN:VEVENT
DTSTART;TZID=Europe/Stockholm:20250826T183000
DTEND;TZID=Europe/Stockholm:20250826T210000
DTSTAMP:20260425T175806
CREATED:20250210T213645Z
LAST-MODIFIED:20250210T214357Z
UID:4865-1756233000-1756242000@livisverige.org
SUMMARY:Berättarkafé på Timmermansgården
DESCRIPTION:
URL:https://livisverige.org/evenemang/berattarkafe-pa-timmermansgarden-20/
LOCATION:Timmermansgården\, Timmermansgatan 46-48\, Stockholm\, Sverige
END:VEVENT
BEGIN:VEVENT
DTSTART;TZID=Europe/Stockholm:20250903T173000
DTEND;TZID=Europe/Stockholm:20250903T193000
DTSTAMP:20260425T175806
CREATED:20250606T153554Z
LAST-MODIFIED:20250606T153554Z
UID:5088-1756920600-1756927800@livisverige.org
SUMMARY:Berättarkväll på gården på Stadsmuseet i Stockholm
DESCRIPTION:Gratis inträde \nVälkommen att lyssna på sanna och osanna historier om Stockholm och allt möjligt annat! \nBerättarnätet Öst i samarbete med Stockholms stad och Studiefrämjandet. \nwww.berattarnat-ost.se tel 076-212 67 89
URL:https://livisverige.org/evenemang/berattarkvall-pa-garden-pa-stadsmuseet-i-stockholm/
LOCATION:Stadsmuseet
END:VEVENT
BEGIN:VEVENT
DTSTART;TZID=Europe/Stockholm:20250910T173000
DTEND;TZID=Europe/Stockholm:20250910T193000
DTSTAMP:20260425T175806
CREATED:20250606T153747Z
LAST-MODIFIED:20250606T153747Z
UID:5090-1757525400-1757532600@livisverige.org
SUMMARY:Berättarkväll på gården på Stockholms Stadsmuseum
DESCRIPTION:Gratis inträde \nVälkommen att lyssna på sanna och osanna historier om Stockholm och allt möjligt annat! \nBerättarnätet Öst i samarbete med Stockholms stad och Studiefrämjandet. \nwww.berattarnat-ost.se tel 076-212 67 89
URL:https://livisverige.org/evenemang/berattarkvall-pa-garden-pa-stockholms-stadsmuseum-2/
LOCATION:Stadsmuseet
END:VEVENT
BEGIN:VEVENT
DTSTART;TZID=Europe/Stockholm:20250930T183000
DTEND;TZID=Europe/Stockholm:20250930T210000
DTSTAMP:20260425T175806
CREATED:20250210T213923Z
LAST-MODIFIED:20250210T213923Z
UID:4867-1759257000-1759266000@livisverige.org
SUMMARY:Berättarkafé på Timmermansgården
DESCRIPTION:
URL:https://livisverige.org/evenemang/berattarkafe-pa-timmermansgarden-21/
LOCATION:Timmermansgården\, Timmermansgatan 46-48\, Stockholm\, Sverige
END:VEVENT
BEGIN:VEVENT
DTSTART;TZID=Europe/Stockholm:20251008T173000
DTEND;TZID=Europe/Stockholm:20251008T193000
DTSTAMP:20260425T175806
CREATED:20250608T135807Z
LAST-MODIFIED:20250608T140146Z
UID:5109-1759944600-1759951800@livisverige.org
SUMMARY:Berättarkväll i Källarstugan på Stockholms Stadsmuseum
DESCRIPTION:Berättarkväll på Stadsmuseet. Boka biljett i god tid i förväg! \nhttps://stadsmuseet.stockholm/aktuellt/?t=event \nDu som är medlem och vill berätta\, kom i god tid\, så sätter kvällens värdar upp dig på berättarlistan. Berättelsen får vara max 10 minuter. Fri entré för medlemmar. Övriga 50 kr. Höstens berättarkvällar https://berattarnat-ost.se/hostens-berattarkvallar-2/ \nKontakt BNÖ: 0739246471 \nBerättarnätet Öst i samarbete med Studiefrämjandet Stockholm
URL:https://livisverige.org/evenemang/berattarkvall-i-kallarstugan-pa-stockholms-stadsmuseum/
LOCATION:Stadsmuseet
END:VEVENT
BEGIN:VEVENT
DTSTART;TZID=Europe/Stockholm:20251028T183000
DTEND;TZID=Europe/Stockholm:20251028T210000
DTSTAMP:20260425T175806
CREATED:20250210T214634Z
LAST-MODIFIED:20250210T214634Z
UID:4869-1761676200-1761685200@livisverige.org
SUMMARY:Berättarkafé på Timmermansgården
DESCRIPTION:
URL:https://livisverige.org/evenemang/berattarkafe-pa-timmermansgarden-22/
LOCATION:Timmermansgården\, Timmermansgatan 46-48\, Stockholm\, Sverige
END:VEVENT
BEGIN:VEVENT
DTSTART;TZID=Europe/Stockholm:20251125T183000
DTEND;TZID=Europe/Stockholm:20251125T210000
DTSTAMP:20260425T175806
CREATED:20250210T214824Z
LAST-MODIFIED:20250210T214824Z
UID:4871-1764095400-1764104400@livisverige.org
SUMMARY:Berättarkafé på Timmermansgården
DESCRIPTION:
URL:https://livisverige.org/evenemang/berattarkafe-pa-timmermansgarden-23/
LOCATION:Timmermansgården\, Timmermansgatan 46-48\, Stockholm\, Sverige
END:VEVENT
BEGIN:VEVENT
DTSTART;TZID=Europe/Stockholm:20251126T173000
DTEND;TZID=Europe/Stockholm:20251126T193000
DTSTAMP:20260425T175806
CREATED:20250608T140532Z
LAST-MODIFIED:20250608T140532Z
UID:5112-1764178200-1764185400@livisverige.org
SUMMARY:Berättarkväll i Källarstugan på Stockholms Stadsmuseum
DESCRIPTION:Berättarkväll på Stadsmuseet. Boka biljett i god tid i förväg! \nhttps://stadsmuseet.stockholm/aktuellt/?t=event \nDu som är medlem och vill berätta\, kom i god tid\, så sätter kvällens värdar upp dig på berättarlistan. Berättelsen får vara max 10 minuter. Fri entré för medlemmar. Övriga 50 kr. Höstens berättarkvällar https://berattarnat-ost.se/hostens-berattarkvallar-2/ \nKontakt BNÖ: 0739246471 \nBerättarnätet Öst i samarbete med Studiefrämjandet Stockholm
URL:https://livisverige.org/evenemang/berattarkvall-i-kallarstugan-pa-stockholms-stadsmuseum-2/
LOCATION:Stadsmuseet
END:VEVENT
BEGIN:VEVENT
DTSTART;TZID=Europe/Stockholm:20251210T173000
DTEND;TZID=Europe/Stockholm:20251210T193000
DTSTAMP:20260425T175806
CREATED:20250608T140730Z
LAST-MODIFIED:20250608T140730Z
UID:5114-1765387800-1765395000@livisverige.org
SUMMARY:Berättarkväll i Källarstugan på Stockholms Stadsmuseum
DESCRIPTION:Berättarkväll på Stadsmuseet. Boka biljett i god tid i förväg! \nhttps://stadsmuseet.stockholm/aktuellt/?t=event \nDu som är medlem och vill berätta\, kom i god tid\, så sätter kvällens värdar upp dig på berättarlistan. Berättelsen får vara max 10 minuter. Fri entré för medlemmar. Övriga 50 kr. Höstens berättarkvällar https://berattarnat-ost.se/hostens-berattarkvallar-2/ \nKontakt BNÖ: 0739246471 \nBerättarnätet Öst i samarbete med Studiefrämjandet Stockholm
URL:https://livisverige.org/evenemang/berattarkvall-i-kallarstugan-pa-stockholms-stadsmuseum-3/
LOCATION:Stadsmuseet
END:VEVENT
BEGIN:VEVENT
DTSTART;TZID=Europe/Stockholm:20260121T173000
DTEND;TZID=Europe/Stockholm:20260121T193000
DTSTAMP:20260425T175806
CREATED:20250608T140934Z
LAST-MODIFIED:20250608T140934Z
UID:5116-1769016600-1769023800@livisverige.org
SUMMARY:Berättarkväll i Källarstugan på Stockholms Stadsmuseum
DESCRIPTION:Berättarkväll på Stadsmuseet. Boka biljett i god tid i förväg! \nhttps://stadsmuseet.stockholm/aktuellt/?t=event \nDu som är medlem och vill berätta\, kom i god tid\, så sätter kvällens värdar upp dig på berättarlistan. Berättelsen får vara max 10 minuter. Fri entré för medlemmar. Övriga 50 kr. Höstens berättarkvällar https://berattarnat-ost.se/hostens-berattarkvallar-2/ \nKontakt BNÖ: 0739246471 \nBerättarnätet Öst i samarbete med Studiefrämjandet Stockholm
URL:https://livisverige.org/evenemang/berattarkvall-i-kallarstugan-pa-stockholms-stadsmuseum-4/
LOCATION:Stadsmuseet
END:VEVENT
BEGIN:VEVENT
DTSTART;TZID=Europe/Stockholm:20260331T183000
DTEND;TZID=Europe/Stockholm:20260331T200000
DTSTAMP:20260425T175806
CREATED:20260315T215608Z
LAST-MODIFIED:20260315T220025Z
UID:5353-1774981800-1774987200@livisverige.org
SUMMARY:Berättarkafé på Timmermansgården
DESCRIPTION:Kom till TIMMERMANSGÅRDEN och berätta din egen historia; barndomsminnen\, kärlek\, misstag\, sorger\, äventyr. \nPå ett berättarkafé får alla som vill komma till tals. \nEller kom bara för att lyssna. \nTimmermansgatan 46-48. Buss 55\, 57 och 66. T-bana Mariatorget eller pendeltåg Södra station. \n18.30 – 20.00  Serveringen är öppen från kl. 18.00. \nFrivillig kollekt. Swish 123 677 36 83 \nOrdfördelare: Pelle Olsson\, Ingrid Sjökvist eller Gunnar Thorsell. \nLiv i Sverige i samarbete med Timmermansgården \nwww.livisverige.org Info: 076-212 67 89
URL:https://livisverige.org/evenemang/berattarkafe-pa-timmermansgarden-24/
LOCATION:Timmermansgården\, Timmermansgatan 46-48\, Stockholm\, Sverige
END:VEVENT
BEGIN:VEVENT
DTSTART;TZID=Europe/Stockholm:20260428T183000
DTEND;TZID=Europe/Stockholm:20260428T200000
DTSTAMP:20260425T175806
CREATED:20260315T220321Z
LAST-MODIFIED:20260315T220321Z
UID:5356-1777401000-1777406400@livisverige.org
SUMMARY:Berättarkafé på Timmermansgården
DESCRIPTION:Kom till TIMMERMANSGÅRDEN och berätta din egen historia; barndomsminnen\, kärlek\, misstag\, sorger\, äventyr. \nPå ett berättarkafé får alla som vill komma till tals. \nEller kom bara för att lyssna. \nTimmermansgatan 46-48. Buss 55\, 57 och 66. T-bana Mariatorget eller pendeltåg Södra station. \n18.30 – 20.00  Serveringen är öppen från kl. 18.00. \nFrivillig kollekt. Swish 123 677 36 83 \nOrdfördelare: Pelle Olsson\, Ingrid Sjökvist eller Gunnar Thorsell. \nLiv i Sverige i samarbete med Timmermansgården \nwww.livisverige.org Info: 076-212 67 89
URL:https://livisverige.org/evenemang/berattarkafe-pa-timmermansgarden-25/
LOCATION:Timmermansgården\, Timmermansgatan 46-48\, Stockholm\, Sverige
END:VEVENT
BEGIN:VEVENT
DTSTART;TZID=Europe/Stockholm:20260825T183000
DTEND;TZID=Europe/Stockholm:20260825T200000
DTSTAMP:20260425T175806
CREATED:20260315T220601Z
LAST-MODIFIED:20260315T221014Z
UID:5358-1787682600-1787688000@livisverige.org
SUMMARY:Berättarkafé på Timmermansgården
DESCRIPTION:Kom till TIMMERMANSGÅRDEN och berätta din egen historia; barndomsminnen\, kärlek\, misstag\, sorger\, äventyr. \nPå ett berättarkafé får alla som vill komma till tals. \nEller kom bara för att lyssna. \nTimmermansgatan 46-48. Buss 55\, 57 och 66. T-bana Mariatorget eller pendeltåg Södra station. \n18.30 – 20.00  Serveringen är öppen från kl. 18.00. \nFrivillig kollekt. Swish 123 677 36 83 \nOrdfördelare: Pelle Olsson\, Ingrid Sjökvist eller Gunnar Thorsell. \nLiv i Sverige i samarbete med Timmermansgården \nwww.livisverige.org Info: 076-212 67 89
URL:https://livisverige.org/evenemang/berattarkafe-pa-timmermansgarden-26/
LOCATION:Timmermansgården\, Timmermansgatan 46-48\, Stockholm\, Sverige
END:VEVENT
BEGIN:VEVENT
DTSTART;TZID=Europe/Stockholm:20260929T183000
DTEND;TZID=Europe/Stockholm:20260929T200000
DTSTAMP:20260425T175806
CREATED:20260315T220828Z
LAST-MODIFIED:20260315T220828Z
UID:5360-1790706600-1790712000@livisverige.org
SUMMARY:Berättarkafé på Timmermansgården
DESCRIPTION:Kom till TIMMERMANSGÅRDEN och berätta din egen historia; barndomsminnen\, kärlek\, misstag\, sorger\, äventyr. \nPå ett berättarkafé får alla som vill komma till tals. \nEller kom bara för att lyssna. \nTimmermansgatan 46-48. Buss 55\, 57 och 66. T-bana Mariatorget eller pendeltåg Södra station. \n18.30 – 20.00  Serveringen är öppen från kl. 18.00. \nFrivillig kollekt. Swish 123 677 36 83 \nOrdfördelare: Pelle Olsson\, Ingrid Sjökvist eller Gunnar Thorsell. \nLiv i Sverige i samarbete med Timmermansgården \nwww.livisverige.org Info: 076-212 67 89
URL:https://livisverige.org/evenemang/berattarkafe-pa-timmermansgarden-27/
LOCATION:Timmermansgården\, Timmermansgatan 46-48\, Stockholm\, Sverige
END:VEVENT
BEGIN:VEVENT
DTSTART;TZID=Europe/Stockholm:20261027T183000
DTEND;TZID=Europe/Stockholm:20261027T200000
DTSTAMP:20260425T175806
CREATED:20260315T221326Z
LAST-MODIFIED:20260315T221326Z
UID:5362-1793125800-1793131200@livisverige.org
SUMMARY:Berättarkafé på Timmermansgården
DESCRIPTION:Kom till TIMMERMANSGÅRDEN och berätta din egen historia; barndomsminnen\, kärlek\, misstag\, sorger\, äventyr. \nPå ett berättarkafé får alla som vill komma till tals. \nEller kom bara för att lyssna. \nTimmermansgatan 46-48. Buss 55\, 57 och 66. T-bana Mariatorget eller pendeltåg Södra station. \n18.30 – 20.00  Serveringen är öppen från kl. 18.00. \nFrivillig kollekt. Swish 123 677 36 83 \nOrdfördelare: Pelle Olsson\, Ingrid Sjökvist eller Gunnar Thorsell. \nLiv i Sverige i samarbete med Timmermansgården \nwww.livisverige.org Info: 076-212 67 89
URL:https://livisverige.org/evenemang/berattarkafe-pa-timmermansgarden-28/
LOCATION:Timmermansgården\, Timmermansgatan 46-48\, Stockholm\, Sverige
END:VEVENT
BEGIN:VEVENT
DTSTART;TZID=Europe/Stockholm:20261124T183000
DTEND;TZID=Europe/Stockholm:20261124T200000
DTSTAMP:20260425T175806
CREATED:20260315T221533Z
LAST-MODIFIED:20260315T221533Z
UID:5364-1795545000-1795550400@livisverige.org
SUMMARY:Berättarkafé på Timmermansgården
DESCRIPTION:Kom till TIMMERMANSGÅRDEN och berätta din egen historia; barndomsminnen\, kärlek\, misstag\, sorger\, äventyr. \nPå ett berättarkafé får alla som vill komma till tals. \nEller kom bara för att lyssna. \nTimmermansgatan 46-48. Buss 55\, 57 och 66. T-bana Mariatorget eller pendeltåg Södra station. \n18.30 – 20.00  Serveringen är öppen från kl. 18.00. \nFrivillig kollekt. Swish 123 677 36 83 \nOrdfördelare: Pelle Olsson\, Ingrid Sjökvist eller Gunnar Thorsell. \nLiv i Sverige i samarbete med Timmermansgården \nwww.livisverige.org Info: 076-212 67 89
URL:https://livisverige.org/evenemang/berattarkafe-pa-timmermansgarden-29/
LOCATION:Timmermansgården\, Timmermansgatan 46-48\, Stockholm\, Sverige
END:VEVENT
END:VCALENDAR