BEGIN:VCALENDAR
VERSION:2.0
PRODID:-//Liv i Sverige - ECPv6.15.15//NONSGML v1.0//EN
CALSCALE:GREGORIAN
METHOD:PUBLISH
X-WR-CALNAME:Liv i Sverige
X-ORIGINAL-URL:https://livisverige.org
X-WR-CALDESC:Händelser för Liv i Sverige
REFRESH-INTERVAL;VALUE=DURATION:PT1H
X-Robots-Tag:noindex
X-PUBLISHED-TTL:PT1H
BEGIN:VTIMEZONE
TZID:Europe/Stockholm
BEGIN:DAYLIGHT
TZOFFSETFROM:+0100
TZOFFSETTO:+0200
TZNAME:CEST
DTSTART:20250330T010000
END:DAYLIGHT
BEGIN:STANDARD
TZOFFSETFROM:+0200
TZOFFSETTO:+0100
TZNAME:CET
DTSTART:20251026T010000
END:STANDARD
BEGIN:DAYLIGHT
TZOFFSETFROM:+0100
TZOFFSETTO:+0200
TZNAME:CEST
DTSTART:20260329T010000
END:DAYLIGHT
BEGIN:STANDARD
TZOFFSETFROM:+0200
TZOFFSETTO:+0100
TZNAME:CET
DTSTART:20261025T010000
END:STANDARD
BEGIN:DAYLIGHT
TZOFFSETFROM:+0100
TZOFFSETTO:+0200
TZNAME:CEST
DTSTART:20270328T010000
END:DAYLIGHT
BEGIN:STANDARD
TZOFFSETFROM:+0200
TZOFFSETTO:+0100
TZNAME:CET
DTSTART:20271031T010000
END:STANDARD
END:VTIMEZONE
BEGIN:VEVENT
DTSTART;TZID=Europe/Stockholm:20261124T183000
DTEND;TZID=Europe/Stockholm:20261124T200000
DTSTAMP:20260425T135430
CREATED:20260315T221533Z
LAST-MODIFIED:20260315T221533Z
UID:5364-1795545000-1795550400@livisverige.org
SUMMARY:Berättarkafé på Timmermansgården
DESCRIPTION:Kom till TIMMERMANSGÅRDEN och berätta din egen historia; barndomsminnen\, kärlek\, misstag\, sorger\, äventyr. \nPå ett berättarkafé får alla som vill komma till tals. \nEller kom bara för att lyssna. \nTimmermansgatan 46-48. Buss 55\, 57 och 66. T-bana Mariatorget eller pendeltåg Södra station. \n18.30 – 20.00  Serveringen är öppen från kl. 18.00. \nFrivillig kollekt. Swish 123 677 36 83 \nOrdfördelare: Pelle Olsson\, Ingrid Sjökvist eller Gunnar Thorsell. \nLiv i Sverige i samarbete med Timmermansgården \nwww.livisverige.org Info: 076-212 67 89
URL:https://livisverige.org/evenemang/berattarkafe-pa-timmermansgarden-29/
LOCATION:Timmermansgården\, Timmermansgatan 46-48\, Stockholm\, Sverige
END:VEVENT
END:VCALENDAR